BEGIN:VCALENDAR
VERSION:2.0
PRODID:-//Jungfreisinnige Kanton Schwyz - ECPv6.2.4//NONSGML v1.0//EN
CALSCALE:GREGORIAN
METHOD:PUBLISH
X-ORIGINAL-URL:https://jfsz.ch
X-WR-CALDESC:Veranstaltungen für Jungfreisinnige Kanton Schwyz
REFRESH-INTERVAL;VALUE=DURATION:PT1H
X-Robots-Tag:noindex
X-PUBLISHED-TTL:PT1H
BEGIN:VTIMEZONE
TZID:Europe/Zurich
BEGIN:DAYLIGHT
TZOFFSETFROM:+0100
TZOFFSETTO:+0200
TZNAME:CEST
DTSTART:20230326T010000
END:DAYLIGHT
BEGIN:STANDARD
TZOFFSETFROM:+0200
TZOFFSETTO:+0100
TZNAME:CET
DTSTART:20231029T010000
END:STANDARD
BEGIN:DAYLIGHT
TZOFFSETFROM:+0100
TZOFFSETTO:+0200
TZNAME:CEST
DTSTART:20240331T010000
END:DAYLIGHT
BEGIN:STANDARD
TZOFFSETFROM:+0200
TZOFFSETTO:+0100
TZNAME:CET
DTSTART:20241027T010000
END:STANDARD
END:VTIMEZONE
BEGIN:VEVENT
DTSTART;VALUE=DATE:20231104
DTEND;VALUE=DATE:20231105
DTSTAMP:20231024T095552
CREATED:20230402T103414Z
LAST-MODIFIED:20230402T103414Z
UID:14918-1699056000-1699142399@jfsz.ch
SUMMARY:Parolenfassung
DESCRIPTION:
URL:https://jfsz.ch/event/parolenfassung/
END:VEVENT
BEGIN:VEVENT
DTSTART;VALUE=DATE:20240224
DTEND;VALUE=DATE:20240225
DTSTAMP:20231024T095552
CREATED:20230402T103514Z
LAST-MODIFIED:20230402T103514Z
UID:14920-1708732800-1708819199@jfsz.ch
SUMMARY:Generalversammlung
DESCRIPTION:
URL:https://jfsz.ch/event/generalversammlung/
END:VEVENT
END:VCALENDAR